BEGIN:VCALENDAR
VERSION:2.0
PRODID:-//Dakota Southeastern Division of the NMRA - ECPv6.15.20//NONSGML v1.0//EN
CALSCALE:GREGORIAN
METHOD:PUBLISH
X-WR-CALNAME:Dakota Southeastern Division of the NMRA
X-ORIGINAL-URL:https://dakotasoutheastern.org
X-WR-CALDESC:Events for Dakota Southeastern Division of the NMRA
REFRESH-INTERVAL;VALUE=DURATION:PT1H
X-Robots-Tag:noindex
X-PUBLISHED-TTL:PT1H
BEGIN:VTIMEZONE
TZID:America/Chicago
BEGIN:DAYLIGHT
TZOFFSETFROM:-0600
TZOFFSETTO:-0500
TZNAME:CDT
DTSTART:20240310T080000
END:DAYLIGHT
BEGIN:STANDARD
TZOFFSETFROM:-0500
TZOFFSETTO:-0600
TZNAME:CST
DTSTART:20241103T070000
END:STANDARD
BEGIN:DAYLIGHT
TZOFFSETFROM:-0600
TZOFFSETTO:-0500
TZNAME:CDT
DTSTART:20250309T080000
END:DAYLIGHT
BEGIN:STANDARD
TZOFFSETFROM:-0500
TZOFFSETTO:-0600
TZNAME:CST
DTSTART:20251102T070000
END:STANDARD
BEGIN:DAYLIGHT
TZOFFSETFROM:-0600
TZOFFSETTO:-0500
TZNAME:CDT
DTSTART:20260308T080000
END:DAYLIGHT
BEGIN:STANDARD
TZOFFSETFROM:-0500
TZOFFSETTO:-0600
TZNAME:CST
DTSTART:20261101T070000
END:STANDARD
BEGIN:DAYLIGHT
TZOFFSETFROM:-0600
TZOFFSETTO:-0500
TZNAME:CDT
DTSTART:20270314T080000
END:DAYLIGHT
BEGIN:STANDARD
TZOFFSETFROM:-0500
TZOFFSETTO:-0600
TZNAME:CST
DTSTART:20271107T070000
END:STANDARD
END:VTIMEZONE
BEGIN:VEVENT
DTSTART;VALUE=DATE:20260626
DTEND;VALUE=DATE:20260628
DTSTAMP:20260425T181131
CREATED:20260324T005237Z
LAST-MODIFIED:20260324T014205Z
UID:2444-1782432000-1782604799@dakotasoutheastern.org
SUMMARY:Canton Depot Days
DESCRIPTION:Canton Depot Days \nCanton Depot \n600 W 5th St \nCanton\, SD \nJune 26-27
URL:https://dakotasoutheastern.org/event/canton-depot-days/
LOCATION:Canton Depot – Canton\, SD
CATEGORIES:Community Event
END:VEVENT
BEGIN:VEVENT
DTSTART;VALUE=DATE:20260619
DTEND;VALUE=DATE:20260621
DTSTAMP:20260425T181131
CREATED:20260324T005126Z
LAST-MODIFIED:20260327T010422Z
UID:2442-1781827200-1781999999@dakotasoutheastern.org
SUMMARY:Jesse James Days - Garretson\, SD
DESCRIPTION:Jesse James Days \nGarretson School \n505 2nd Street \nGarretson\, SD \nJune 19-20\, 2026
URL:https://dakotasoutheastern.org/event/jesse-james-days/
LOCATION:Garretson School\, 505 2nd Street\, Garretson\, SD\, 57030\, United States
CATEGORIES:Community Event
END:VEVENT
BEGIN:VEVENT
DTSTART;VALUE=DATE:20260613
DTEND;VALUE=DATE:20260615
DTSTAMP:20260425T181131
CREATED:20260324T005017Z
LAST-MODIFIED:20260324T005600Z
UID:2440-1781308800-1781481599@dakotasoutheastern.org
SUMMARY:Sherman Hill Train Show
DESCRIPTION:Sherman Hill Train Show \nJune 13-14\, 2026 \nEvent Center – Archer \n3801 Archer Parkway \nCheyenne\, WY
URL:https://dakotasoutheastern.org/event/sherman-hill-train-show-2/
LOCATION:Event Center at Archer\, 3801 Archer Parkway\, Cheyenne\, WY\, United States
CATEGORIES:Train Show
END:VEVENT
BEGIN:VEVENT
DTSTART;VALUE=DATE:20260521
DTEND;VALUE=DATE:20260525
DTSTAMP:20260425T181131
CREATED:20260128T045207Z
LAST-MODIFIED:20260324T005702Z
UID:2308-1779321600-1779667199@dakotasoutheastern.org
SUMMARY:Thousand Lakes Region Convention
DESCRIPTION:-The 2026 Convention will be held in Thunder Bay the weekend of American Memorial Day\, May 21-24\, 2026.   \n-The Thunder Bay Model Railroad Club will be our host.  \n-The Delta Hotel will be he convention headquarters.  Members are recommended to ask for rooms at the back of the hotel so they can overlook the tracks.​ \n-A wide variety of events\, tours\, and layout tours are planned.   \n-Watch the Fusee and website for more updates.    ​ \n-Be sure to have your passports updated\, and note that Thunder Bay is in the Eastern Time zone.
URL:https://dakotasoutheastern.org/event/thousand-lakes-region-convention/
CATEGORIES:Convention
END:VEVENT
BEGIN:VEVENT
DTSTART;VALUE=DATE:20260509
DTEND;VALUE=DATE:20260511
DTSTAMP:20260425T181131
CREATED:20260324T004537Z
LAST-MODIFIED:20260324T021933Z
UID:2434-1778284800-1778457599@dakotasoutheastern.org
SUMMARY:Lincoln Area Railway Historical Society 2026 Train Show
DESCRIPTION:Lincoln Area Railway Historical Society 2026 Train Show\nSandhills Global Event Center\n4100 North 84th Street\, Lincoln\, NE\nMay 9-10\, 2026
URL:https://dakotasoutheastern.org/event/lincoln-area-railway-historical-society-2026-train-show/
LOCATION:Sandhills Global Event Center – Lincoln\, NE\, 4100 N 84th St\, Lincoln\, NE\, 68507\, United States
CATEGORIES:Train Show
END:VEVENT
BEGIN:VEVENT
DTSTART;TZID=America/Chicago:20260407T180000
DTEND;TZID=America/Chicago:20260407T200000
DTSTAMP:20260425T181131
CREATED:20260128T045620Z
LAST-MODIFIED:20260324T013808Z
UID:2310-1775584800-1775592000@dakotasoutheastern.org
SUMMARY:ComEd Class: Model Railroading 101
DESCRIPTION:Class runs Tuesdays –  4/7\, 4/14\, 4/21 and 4/28 \n6PM – 8PM in April 2026.  See link below for registration and details. \nRegistration is necessary.   Registration Form at Sioux Falls School District. \nDetails and photos of previous classes.
URL:https://dakotasoutheastern.org/event/comed-class-kickoff/
CATEGORIES:Clinic,Workshop
ORGANIZER;CN="Dakota Southeastern Division - DSED":MAILTO:dakotasoutheastern@gmail.com
END:VEVENT
BEGIN:VEVENT
DTSTART;TZID=America/Chicago:20260322T050000
DTEND;TZID=America/Chicago:20260322T110000
DTSTAMP:20260425T181131
CREATED:20251127T034148Z
LAST-MODIFIED:20251127T193031Z
UID:1929-1774155600-1774177200@dakotasoutheastern.org
SUMMARY:Greater Sioux Falls Model Train Show-March 21-22\, 2026-Sioux Falls\, SD
DESCRIPTION:The DSED is excited to announce that we will be hosting our annual train show at a new location in 2026. Our new location will be the Sioux Falls Convention Center located at 1201 N West Ave\, Sioux Falls\, SD. The venue is larger than our previous location which will allow us to bring in more vendors and model train layouts. The space is well-lit\, is a wide-open space with an enclosed and overhead loading and unloading dock area with ample free parking for our guests. \nThe Greater Sioux Falls Model Train Show will be held on March 21-22\, 2026. Watch our website for vendor and layout information as it becomes available. Questions on the upcoming show can be sent to dakotasoutheastern@gmail.com. \nSaturday\, March 21\, 2026\, hours: 10am to 5pm \nSunday\, March 22\, 2026\, hours: 10am to 4pm \n$10 Adult admission\, good for both days\, children 12 and under are free with paid adult.
URL:https://dakotasoutheastern.org/event/greater-sioux-falls-model-train-show-march-22-2026-sioux-falls-sd/
LOCATION:Sioux Falls Convention Center\, 1201 N West Ave\, Sioux Falls\, SD\, 57106\, United States
CATEGORIES:Family,Train Show
END:VEVENT
BEGIN:VEVENT
DTSTART;TZID=America/Chicago:20260321T050000
DTEND;TZID=America/Chicago:20260321T120000
DTSTAMP:20260425T181131
CREATED:20250422T221107Z
LAST-MODIFIED:20251127T193213Z
UID:1823-1774069200-1774094400@dakotasoutheastern.org
SUMMARY:Greater Sioux Falls Model Train Show-March 21-22\, 2026-Sioux Falls\, SD
DESCRIPTION:The DSED is excited to announce that we will be hosting our annual train show at a new location in 2026. Our new location will be the Sioux Falls Convention Center located at 1201 N West Ave\, Sioux Falls\, SD. The venue is larger than our previous location which will allow us to bring in more vendors and model train layouts. The space is well-lit\, is a wide-open space with an enclosed and overhead loading and unloading dock area with ample free parking for our guests. \nThe Greater Sioux Falls Model Train Show will be held on March 21-22\, 2026. Watch our website for vendor and layout information as it becomes available. Questions on the upcoming show can be sent to dakotasoutheastern@gmail.com. \nSaturday\, March 21\, 2026\, hours: 10am to 5pm \nSunday\, March 22\, 2026\, hours: 10am to 4pm \n$10 Adult admission\, good for both days\, children 12 and under are free with paid adult.
URL:https://dakotasoutheastern.org/event/greater-sioux-falls-model-train-show-march-21-22-2026-sioux-falls-sd/
LOCATION:Sioux Falls Convention Center\, 1201 N West Ave\, Sioux Falls\, SD\, 57106\, United States
CATEGORIES:Family,Train Show
END:VEVENT
BEGIN:VEVENT
DTSTART;TZID=America/Chicago:20260315T040000
DTEND;TZID=America/Chicago:20260315T100000
DTSTAMP:20260425T181131
CREATED:20251127T033207Z
LAST-MODIFIED:20251127T033207Z
UID:1926-1773547200-1773568800@dakotasoutheastern.org
SUMMARY:Annual Train & Toy Show - March 14-15\, 2026 - Papillon\, NE
DESCRIPTION:The DSED will bring our HO layout and switching layout to this large train and toy show. Come and see us if you are in the area. There will multiple vendors and scale train layouts on display.
URL:https://dakotasoutheastern.org/event/annual-train-toy-show-march-14-15-2026-papillon-ne/
LOCATION:Papillion Landing – Field House\, 1022 W Lincoln Street\, Papillion\, NE\, United States
CATEGORIES:Family,Train Show
END:VEVENT
BEGIN:VEVENT
DTSTART;TZID=America/Chicago:20260314T040000
DTEND;TZID=America/Chicago:20260314T110000
DTSTAMP:20260425T181131
CREATED:20251127T032920Z
LAST-MODIFIED:20251127T032920Z
UID:1922-1773460800-1773486000@dakotasoutheastern.org
SUMMARY:Annual Train & Toy Show - March 14-15\, 2026 - Papillion\, NE
DESCRIPTION:The DSED will bring our HO layout and switching layout to this large train and toy show. Come and see us if you are in the area. There will multiple vendors and scale train layouts on display.
URL:https://dakotasoutheastern.org/event/annual-train-toy-show-march-14-15-2026-papillion-ne/
LOCATION:Papillion Landing – Field House\, 1022 W Lincoln Street\, Papillion\, NE\, United States
CATEGORIES:Family,Train Show
END:VEVENT
BEGIN:VEVENT
DTSTART;TZID=America/Chicago:20260228T090000
DTEND;TZID=America/Chicago:20260228T150000
DTSTAMP:20260425T181131
CREATED:20260129T130112Z
LAST-MODIFIED:20260129T130112Z
UID:2318-1772269200-1772290800@dakotasoutheastern.org
SUMMARY:Granite City Train Show
DESCRIPTION:St. Cloud River’s Edge Convention Center\nSt. Cloud\, Minnesota\, USA \nModel & Toy Trains (all scales)\, Accessories\, Books\, Videos\, Railroad Collectibles and Memorabilia\, Antique Toys\, Hobby Items\, and More. \nTicket Information\nTicket Prices\nAdults: $6\nChildren: 10 & under: Free
URL:https://dakotasoutheastern.org/event/granite-city-train-show/
END:VEVENT
BEGIN:VEVENT
DTSTART;TZID=America/Chicago:20260125T070000
DTEND;TZID=America/Chicago:20260125T090000
DTSTAMP:20260425T181131
CREATED:20251127T032117Z
LAST-MODIFIED:20251127T032117Z
UID:1920-1769324400-1769331600@dakotasoutheastern.org
SUMMARY:Downtown Library - January 24-25\, 2026 - Sioux Falls\, SD
DESCRIPTION:Another great annual event as we bring our layouts to the downtown library in Sioux Falls\, SD. The many guests of the library see our HO and N scale model train layouts in action. The switching layouts will also be on display where kids are able to earn their engineer’s certificate. A great fun family event. Free to attend.
URL:https://dakotasoutheastern.org/event/downtown-library-january-24-25-2026-sioux-falls-sd-2/
LOCATION:Downtown Library – Sioux Falls\, SD\, 200 N Dakota Ave\, Sioux Falls\, 57104\, United States
CATEGORIES:Family
END:VEVENT
BEGIN:VEVENT
DTSTART;TZID=America/Chicago:20260124T030000
DTEND;TZID=America/Chicago:20260124T110000
DTSTAMP:20260425T181131
CREATED:20251127T031917Z
LAST-MODIFIED:20251127T031917Z
UID:1917-1769223600-1769252400@dakotasoutheastern.org
SUMMARY:Downtown Library - January 24-25\, 2026 - Sioux Falls\, SD
DESCRIPTION:Another great annual event as we bring our layouts to the downtown library in Sioux Falls\, SD. The many guests of the library see our HO and N scale model train layouts in action. The switching layouts will also be on display where kids are able to earn their engineer’s certificate. A great fun family event. Free to attend.
URL:https://dakotasoutheastern.org/event/downtown-library-january-24-25-2026-sioux-falls-sd/
LOCATION:Downtown Library – Sioux Falls\, SD\, 200 N Dakota Ave\, Sioux Falls\, 57104\, United States
CATEGORIES:Family
END:VEVENT
BEGIN:VEVENT
DTSTART;TZID=America/Chicago:20251214T040000
DTEND;TZID=America/Chicago:20251214T080000
DTSTAMP:20260425T181131
CREATED:20251127T031220Z
LAST-MODIFIED:20251127T031220Z
UID:1915-1765684800-1765699200@dakotasoutheastern.org
SUMMARY:Polar Express - December 14\, 2025 - Sioux Falls\, SD - Private Event
DESCRIPTION:The DSED will have our model train layouts on display during the Minnehaha Country Club’s annual Polar Express Christmas event.
URL:https://dakotasoutheastern.org/event/polar-express-december-14-2025-sioux-falls-sd-private-event/
CATEGORIES:Christmas,Family
END:VEVENT
BEGIN:VEVENT
DTSTART;TZID=America/Chicago:20251211T120000
DTEND;TZID=America/Chicago:20251211T150000
DTSTAMP:20260425T181131
CREATED:20251127T030606Z
LAST-MODIFIED:20251127T030606Z
UID:1909-1765454400-1765465200@dakotasoutheastern.org
SUMMARY:DSED December Social - December 11\, 2025 - Brandon\, SD
DESCRIPTION:The DSED annual December Social\, a time for members\, family members and guests to gather\, and share in the many DSED events that occurred over the past year.
URL:https://dakotasoutheastern.org/event/dsed-december-social-december-11-2025-brandon-sd/
LOCATION:Tailgator’s\, 1013 N Splitrock Blvd\, Brandon\, SD\, 57005\, United States
CATEGORIES:Family,Social
END:VEVENT
BEGIN:VEVENT
DTSTART;TZID=America/Chicago:20251205T030000
DTEND;TZID=America/Chicago:20251205T110000
DTSTAMP:20260425T181131
CREATED:20251127T025531Z
LAST-MODIFIED:20251127T025531Z
UID:1906-1764903600-1764932400@dakotasoutheastern.org
SUMMARY:First Bank & Trust Display - Garretson\, SD - December 5\, 2025
DESCRIPTION:The DSED will have a winter themed HO and a Lego layout on display at the First Bank & Trust in Garretson\, SD\, on Friday\, December 5th. \nThe Garretson Museum will also be open where a model train layout will be on display depicting Garretson in the 1970’s. \nStop by and see these great displays.
URL:https://dakotasoutheastern.org/event/first-bank-trust-display-garretson-sd-december-5-2025/
LOCATION:First Bank & Trust\, 644 N Main\, Garretson\, SD\, 57030\, United States
CATEGORIES:Christmas,Family
END:VEVENT
BEGIN:VEVENT
DTSTART;TZID=America/Chicago:20251123T030000
DTEND;TZID=America/Chicago:20251123T100000
DTSTAMP:20260425T181131
CREATED:20250929T194839Z
LAST-MODIFIED:20250929T194839Z
UID:1892-1763866800-1763892000@dakotasoutheastern.org
SUMMARY:Trains at Christmas - November 22-23\, 2025 - Sioux Falls\, SD
DESCRIPTION:The DSED model railroad club will be at Trains at Christmas train show at the Expo Building at the W H Lyon Fairgrounds on Saturday and Sunday\, November 22-23\, 2025. Come and check out all of our layouts\, including our award-winning HO layout\, N scale T-Trak layout and two switching layouts for kids to earn an engineer’s certificate by running a train. We will also have some used model trains and accessories for sale during the train show. \nCost is $7 per adult\, children 12 and under are free with a paid adult.
URL:https://dakotasoutheastern.org/event/trains-at-christmas-november-22-23-2025-sioux-falls-sd-2/
LOCATION:W H Lyon Fairgrounds\, W H Lyon Fairgrounds\, Sioux Falls\, SD - South Dakota\, 57105
CATEGORIES:Family,Train Show
END:VEVENT
BEGIN:VEVENT
DTSTART;TZID=America/Chicago:20251122T040000
DTEND;TZID=America/Chicago:20251122T110000
DTSTAMP:20260425T181131
CREATED:20250929T194619Z
LAST-MODIFIED:20250929T194619Z
UID:1889-1763784000-1763809200@dakotasoutheastern.org
SUMMARY:Trains at Christmas - November 22-23\, 2025 - Sioux Falls\, SD
DESCRIPTION:The DSED model railroad club will be at Trains at Christmas train show at the Expo Building at the W H Lyon Fairgrounds on Saturday and Sunday\, November 22-23\, 2025. Come and check out all of our layouts\, including our award-winning HO layout\, N scale T-Trak layout and two switching layouts for kids to earn an engineer’s certificate by running a train. We will also have some used model trains and accessories for sale during the train show. \nCost is $7 per adult\, children 12 and under are free with a paid adult.
URL:https://dakotasoutheastern.org/event/trains-at-christmas-november-22-23-2025-sioux-falls-sd/
LOCATION:W H Lyon Fairgrounds\, W H Lyon Fairgrounds\, Sioux Falls\, SD - South Dakota\, 57105
CATEGORIES:Family,Train Show
END:VEVENT
BEGIN:VEVENT
DTSTART;TZID=America/Chicago:20251030T120000
DTEND;TZID=America/Chicago:20251030T140000
DTSTAMP:20260425T181131
CREATED:20250929T193556Z
LAST-MODIFIED:20250929T195204Z
UID:1887-1761825600-1761832800@dakotasoutheastern.org
SUMMARY:Community Education Class - October 30\, 2025 - Sioux Falls\, SD
DESCRIPTION:The DSED is holding a community education class on model railroading starting October 30\, 2025. The session is a 4-week class held on Thursday evenings from 6-8pm. During the sessions\, registrants will learn the basics of model railroading by adding scenery to a 1’x2′ module. This is a hands-on class where your imagination can run free to design a look that is unique to each individual. You will learn how to add track and scenery to the module which is yours to keep at the end of the class. Instructors are members of the Dakota Southeastern Division\, DSED\, model railroad club. \nOne of the sessions is a tour of two of the instructor’s home model train layouts. \nRegistration information can be found at https://sfsdcomed.myrec.com/. The class is for all ages and families are encouraged to engage in this fun filled class. \nClasses are held at the Career & Technical Education building at 4700 W Career Circle\, Sioux Falls\, SD. \nClass dates are October 30\, November 6\, 13 and 20\, 2025. \nRegister soon to reserve your spot. \n 
URL:https://dakotasoutheastern.org/event/community-education-class-october-30-2025-sioux-falls-sd/
LOCATION:CTE-Career & Technical Education\, 4700 W Career Circle\, Sioux Falls\, SD\, 57106\, United States
CATEGORIES:Clinic,Family
END:VEVENT
END:VCALENDAR