BEGIN:VCALENDAR
VERSION:2.0
PRODID:-//Dakota Southeastern Division of the NMRA - ECPv6.15.20//NONSGML v1.0//EN
CALSCALE:GREGORIAN
METHOD:PUBLISH
X-ORIGINAL-URL:https://dakotasoutheastern.org
X-WR-CALDESC:Events for Dakota Southeastern Division of the NMRA
REFRESH-INTERVAL;VALUE=DURATION:PT1H
X-Robots-Tag:noindex
X-PUBLISHED-TTL:PT1H
BEGIN:VTIMEZONE
TZID:America/Chicago
BEGIN:DAYLIGHT
TZOFFSETFROM:-0600
TZOFFSETTO:-0500
TZNAME:CDT
DTSTART:20250309T080000
END:DAYLIGHT
BEGIN:STANDARD
TZOFFSETFROM:-0500
TZOFFSETTO:-0600
TZNAME:CST
DTSTART:20251102T070000
END:STANDARD
BEGIN:DAYLIGHT
TZOFFSETFROM:-0600
TZOFFSETTO:-0500
TZNAME:CDT
DTSTART:20260308T080000
END:DAYLIGHT
BEGIN:STANDARD
TZOFFSETFROM:-0500
TZOFFSETTO:-0600
TZNAME:CST
DTSTART:20261101T070000
END:STANDARD
BEGIN:DAYLIGHT
TZOFFSETFROM:-0600
TZOFFSETTO:-0500
TZNAME:CDT
DTSTART:20270314T080000
END:DAYLIGHT
BEGIN:STANDARD
TZOFFSETFROM:-0500
TZOFFSETTO:-0600
TZNAME:CST
DTSTART:20271107T070000
END:STANDARD
END:VTIMEZONE
BEGIN:VEVENT
DTSTART;VALUE=DATE:20260613
DTEND;VALUE=DATE:20260615
DTSTAMP:20260423T142003
CREATED:20260324T005017Z
LAST-MODIFIED:20260324T005600Z
UID:2440-1781308800-1781481599@dakotasoutheastern.org
SUMMARY:Sherman Hill Train Show
DESCRIPTION:Sherman Hill Train Show \nJune 13-14\, 2026 \nEvent Center – Archer \n3801 Archer Parkway \nCheyenne\, WY
URL:https://dakotasoutheastern.org/event/sherman-hill-train-show-2/
LOCATION:Event Center at Archer\, 3801 Archer Parkway\, Cheyenne\, WY\, United States
CATEGORIES:Train Show
END:VEVENT
END:VCALENDAR