BEGIN:VCALENDAR
VERSION:2.0
PRODID:-//Dakota Southeastern Division of the NMRA - ECPv6.15.20//NONSGML v1.0//EN
CALSCALE:GREGORIAN
METHOD:PUBLISH
X-WR-CALNAME:Dakota Southeastern Division of the NMRA
X-ORIGINAL-URL:https://dakotasoutheastern.org
X-WR-CALDESC:Events for Dakota Southeastern Division of the NMRA
REFRESH-INTERVAL;VALUE=DURATION:PT1H
X-Robots-Tag:noindex
X-PUBLISHED-TTL:PT1H
BEGIN:VTIMEZONE
TZID:America/Chicago
BEGIN:DAYLIGHT
TZOFFSETFROM:-0600
TZOFFSETTO:-0500
TZNAME:CDT
DTSTART:20250309T080000
END:DAYLIGHT
BEGIN:STANDARD
TZOFFSETFROM:-0500
TZOFFSETTO:-0600
TZNAME:CST
DTSTART:20251102T070000
END:STANDARD
BEGIN:DAYLIGHT
TZOFFSETFROM:-0600
TZOFFSETTO:-0500
TZNAME:CDT
DTSTART:20260308T080000
END:DAYLIGHT
BEGIN:STANDARD
TZOFFSETFROM:-0500
TZOFFSETTO:-0600
TZNAME:CST
DTSTART:20261101T070000
END:STANDARD
BEGIN:DAYLIGHT
TZOFFSETFROM:-0600
TZOFFSETTO:-0500
TZNAME:CDT
DTSTART:20270314T080000
END:DAYLIGHT
BEGIN:STANDARD
TZOFFSETFROM:-0500
TZOFFSETTO:-0600
TZNAME:CST
DTSTART:20271107T070000
END:STANDARD
END:VTIMEZONE
BEGIN:VEVENT
DTSTART;VALUE=DATE:20260509
DTEND;VALUE=DATE:20260511
DTSTAMP:20260423T130135
CREATED:20260324T004537Z
LAST-MODIFIED:20260324T021933Z
UID:2434-1778284800-1778457599@dakotasoutheastern.org
SUMMARY:Lincoln Area Railway Historical Society 2026 Train Show
DESCRIPTION:Lincoln Area Railway Historical Society 2026 Train Show\nSandhills Global Event Center\n4100 North 84th Street\, Lincoln\, NE\nMay 9-10\, 2026
URL:https://dakotasoutheastern.org/event/lincoln-area-railway-historical-society-2026-train-show/
LOCATION:Sandhills Global Event Center – Lincoln\, NE\, 4100 N 84th St\, Lincoln\, NE\, 68507\, United States
CATEGORIES:Train Show
END:VEVENT
END:VCALENDAR