BEGIN:VCALENDAR
VERSION:2.0
PRODID:-//Dakota Southeastern Division of the NMRA - ECPv6.15.20//NONSGML v1.0//EN
CALSCALE:GREGORIAN
METHOD:PUBLISH
X-ORIGINAL-URL:https://dakotasoutheastern.org
X-WR-CALDESC:Events for Dakota Southeastern Division of the NMRA
REFRESH-INTERVAL;VALUE=DURATION:PT1H
X-Robots-Tag:noindex
X-PUBLISHED-TTL:PT1H
BEGIN:VTIMEZONE
TZID:America/Chicago
BEGIN:DAYLIGHT
TZOFFSETFROM:-0600
TZOFFSETTO:-0500
TZNAME:CDT
DTSTART:20250309T080000
END:DAYLIGHT
BEGIN:STANDARD
TZOFFSETFROM:-0500
TZOFFSETTO:-0600
TZNAME:CST
DTSTART:20251102T070000
END:STANDARD
BEGIN:DAYLIGHT
TZOFFSETFROM:-0600
TZOFFSETTO:-0500
TZNAME:CDT
DTSTART:20260308T080000
END:DAYLIGHT
BEGIN:STANDARD
TZOFFSETFROM:-0500
TZOFFSETTO:-0600
TZNAME:CST
DTSTART:20261101T070000
END:STANDARD
BEGIN:DAYLIGHT
TZOFFSETFROM:-0600
TZOFFSETTO:-0500
TZNAME:CDT
DTSTART:20270314T080000
END:DAYLIGHT
BEGIN:STANDARD
TZOFFSETFROM:-0500
TZOFFSETTO:-0600
TZNAME:CST
DTSTART:20271107T070000
END:STANDARD
END:VTIMEZONE
BEGIN:VEVENT
DTSTART;TZID=America/Chicago:20260124T030000
DTEND;TZID=America/Chicago:20260124T110000
DTSTAMP:20260423T191827
CREATED:20251127T031917Z
LAST-MODIFIED:20251127T031917Z
UID:1917-1769223600-1769252400@dakotasoutheastern.org
SUMMARY:Downtown Library - January 24-25\, 2026 - Sioux Falls\, SD
DESCRIPTION:Another great annual event as we bring our layouts to the downtown library in Sioux Falls\, SD. The many guests of the library see our HO and N scale model train layouts in action. The switching layouts will also be on display where kids are able to earn their engineer’s certificate. A great fun family event. Free to attend.
URL:https://dakotasoutheastern.org/event/downtown-library-january-24-25-2026-sioux-falls-sd/
LOCATION:Downtown Library – Sioux Falls\, SD\, 200 N Dakota Ave\, Sioux Falls\, 57104\, United States
CATEGORIES:Family
END:VEVENT
BEGIN:VEVENT
DTSTART;TZID=America/Chicago:20260125T070000
DTEND;TZID=America/Chicago:20260125T090000
DTSTAMP:20260423T191827
CREATED:20251127T032117Z
LAST-MODIFIED:20251127T032117Z
UID:1920-1769324400-1769331600@dakotasoutheastern.org
SUMMARY:Downtown Library - January 24-25\, 2026 - Sioux Falls\, SD
DESCRIPTION:Another great annual event as we bring our layouts to the downtown library in Sioux Falls\, SD. The many guests of the library see our HO and N scale model train layouts in action. The switching layouts will also be on display where kids are able to earn their engineer’s certificate. A great fun family event. Free to attend.
URL:https://dakotasoutheastern.org/event/downtown-library-january-24-25-2026-sioux-falls-sd-2/
LOCATION:Downtown Library – Sioux Falls\, SD\, 200 N Dakota Ave\, Sioux Falls\, 57104\, United States
CATEGORIES:Family
END:VEVENT
END:VCALENDAR