BEGIN:VCALENDAR
VERSION:2.0
PRODID:-//Dakota Southeastern Division of the NMRA - ECPv6.15.20//NONSGML v1.0//EN
CALSCALE:GREGORIAN
METHOD:PUBLISH
X-ORIGINAL-URL:https://dakotasoutheastern.org
X-WR-CALDESC:Events for Dakota Southeastern Division of the NMRA
REFRESH-INTERVAL;VALUE=DURATION:PT1H
X-Robots-Tag:noindex
X-PUBLISHED-TTL:PT1H
BEGIN:VTIMEZONE
TZID:America/Chicago
BEGIN:DAYLIGHT
TZOFFSETFROM:-0600
TZOFFSETTO:-0500
TZNAME:CDT
DTSTART:20240310T080000
END:DAYLIGHT
BEGIN:STANDARD
TZOFFSETFROM:-0500
TZOFFSETTO:-0600
TZNAME:CST
DTSTART:20241103T070000
END:STANDARD
BEGIN:DAYLIGHT
TZOFFSETFROM:-0600
TZOFFSETTO:-0500
TZNAME:CDT
DTSTART:20250309T080000
END:DAYLIGHT
BEGIN:STANDARD
TZOFFSETFROM:-0500
TZOFFSETTO:-0600
TZNAME:CST
DTSTART:20251102T070000
END:STANDARD
BEGIN:DAYLIGHT
TZOFFSETFROM:-0600
TZOFFSETTO:-0500
TZNAME:CDT
DTSTART:20260308T080000
END:DAYLIGHT
BEGIN:STANDARD
TZOFFSETFROM:-0500
TZOFFSETTO:-0600
TZNAME:CST
DTSTART:20261101T070000
END:STANDARD
END:VTIMEZONE
BEGIN:VEVENT
DTSTART;TZID=America/Chicago:20251214T040000
DTEND;TZID=America/Chicago:20251214T080000
DTSTAMP:20260423T165132
CREATED:20251127T031220Z
LAST-MODIFIED:20251127T031220Z
UID:1915-1765684800-1765699200@dakotasoutheastern.org
SUMMARY:Polar Express - December 14\, 2025 - Sioux Falls\, SD - Private Event
DESCRIPTION:The DSED will have our model train layouts on display during the Minnehaha Country Club’s annual Polar Express Christmas event.
URL:https://dakotasoutheastern.org/event/polar-express-december-14-2025-sioux-falls-sd-private-event/
CATEGORIES:Christmas,Family
END:VEVENT
BEGIN:VEVENT
DTSTART;TZID=America/Chicago:20251205T030000
DTEND;TZID=America/Chicago:20251205T110000
DTSTAMP:20260423T165132
CREATED:20251127T025531Z
LAST-MODIFIED:20251127T025531Z
UID:1906-1764903600-1764932400@dakotasoutheastern.org
SUMMARY:First Bank & Trust Display - Garretson\, SD - December 5\, 2025
DESCRIPTION:The DSED will have a winter themed HO and a Lego layout on display at the First Bank & Trust in Garretson\, SD\, on Friday\, December 5th. \nThe Garretson Museum will also be open where a model train layout will be on display depicting Garretson in the 1970’s. \nStop by and see these great displays.
URL:https://dakotasoutheastern.org/event/first-bank-trust-display-garretson-sd-december-5-2025/
LOCATION:First Bank & Trust\, 644 N Main\, Garretson\, SD\, 57030\, United States
CATEGORIES:Christmas,Family
END:VEVENT
END:VCALENDAR